BEGIN:VCALENDAR
VERSION:2.0
PRODID:DPCALENDAR
CALSCALE:GREGORIAN
BEGIN:VTIMEZONE
TZID:UTC
X-MICROSOFT-CDO-TZID:0
END:VTIMEZONE
X-WR-TIMEZONE:UTC
BEGIN:VEVENT
DTSTART;VALUE=DATE:20260418
DTEND;VALUE=DATE:20260420
UID:F7985CED-DD7C-432E-8DE9-30CF43E8EC5E
SUMMARY:Robby-Messe Mariensee
DTSTAMP:20250903T150533Z
DESCRIPTION:
X-ALT-DESC;FMTTYPE=text/html:
LAST-MODIFIED:20260116T124109Z
X-ACCESS:1
X-HITS:346
X-URL:
X-COLOR:3366CC
END:VEVENT
END:VCALENDAR