BEGIN:VCALENDAR
VERSION:2.0
PRODID:DPCALENDAR
CALSCALE:GREGORIAN
BEGIN:VTIMEZONE
TZID:UTC
X-MICROSOFT-CDO-TZID:0
END:VTIMEZONE
X-WR-TIMEZONE:UTC
BEGIN:VEVENT
DTSTART;VALUE=DATE:20260620
DTEND;VALUE=DATE:20260621
UID:8026B9DC-8DC5-495A-B862-9FDF46E5C7A7
SUMMARY:Fahrradtour für Erwachsene
DTSTAMP:20250903T150533Z
DESCRIPTION:
X-ALT-DESC;FMTTYPE=text/html:
LAST-MODIFIED:20260116T124206Z
X-ACCESS:1
X-HITS:308
X-URL:
X-COLOR:3366CC
END:VEVENT
END:VCALENDAR