BEGIN:VCALENDAR
VERSION:2.0
PRODID:DPCALENDAR
CALSCALE:GREGORIAN
BEGIN:VTIMEZONE
TZID:UTC
X-MICROSOFT-CDO-TZID:0
END:VTIMEZONE
X-WR-TIMEZONE:UTC
BEGIN:VEVENT
DTSTART;VALUE=DATE:20260912
DTEND;VALUE=DATE:20260913
UID:384AC069-090B-4D6C-B9F3-D9D55F20F0A6
SUMMARY:Ski-Flohmarkt bei mmcAG
DTSTAMP:20250903T150533Z
DESCRIPTION:
X-ALT-DESC;FMTTYPE=text/html:
LAST-MODIFIED:20260116T124530Z
X-ACCESS:1
X-HITS:226
X-URL:
X-COLOR:3366CC
END:VEVENT
END:VCALENDAR